BEGIN:VCALENDAR
PRODID:-//eluceo/ical//2.0/EN
VERSION:2.0
CALSCALE:GREGORIAN
BEGIN:VEVENT
UID:d29c90e3415f86d51a6c1ad2983f3178
DTSTAMP:20260425T104631Z
SUMMARY:Besuch des Governors - RC Thun
DESCRIPTION:Zusammen mit DGN Peter Pfister\nOrador(es): DG Francis Godel
URL:https://rotary1990.ch/es/agenda/show/11731
DTSTART;TZID=Europe/Zurich:20091005T121500
DTEND;TZID=Europe/Zurich:20091005T121500
LOCATION:Thun
CATEGORIES:Rotary
END:VEVENT
BEGIN:VTIMEZONE
TZID:Europe/Zurich
BEGIN:DAYLIGHT
DTSTART:20091005T121500
TZNAME:CEST
TZOFFSETTO:+0200
TZOFFSETFROM:+0200
END:DAYLIGHT
END:VTIMEZONE
END:VCALENDAR
